BEGIN:VCALENDAR
VERSION:2.0
PRODID:-//Lighthouse Global Ekklesia - ECPv6.15.20//NONSGML v1.0//EN
CALSCALE:GREGORIAN
METHOD:PUBLISH
X-WR-CALNAME:Lighthouse Global Ekklesia
X-ORIGINAL-URL:https://www.lighthouseglobalekklesia.com
X-WR-CALDESC:Events for Lighthouse Global Ekklesia
REFRESH-INTERVAL;VALUE=DURATION:PT1H
X-Robots-Tag:noindex
X-PUBLISHED-TTL:PT1H
BEGIN:VTIMEZONE
TZID:Asia/Karachi
BEGIN:STANDARD
TZOFFSETFROM:+0500
TZOFFSETTO:+0500
TZNAME:PKT
DTSTART:20230101T000000
END:STANDARD
END:VTIMEZONE
BEGIN:VTIMEZONE
TZID:UTC
BEGIN:STANDARD
TZOFFSETFROM:+0000
TZOFFSETTO:+0000
TZNAME:UTC
DTSTART:20230101T000000
END:STANDARD
END:VTIMEZONE
BEGIN:VEVENT
DTSTART;TZID=Asia/Karachi:20240613T190000
DTEND;TZID=Asia/Karachi:20240613T200000
DTSTAMP:20260420T070546
CREATED:20240319T220634Z
LAST-MODIFIED:20240319T220634Z
UID:2494-1718305200-1718308800@www.lighthouseglobalekklesia.com
SUMMARY:QUEENS FOR THE KING
DESCRIPTION:
URL:https://www.lighthouseglobalekklesia.com/event/queens-for-the-king-19/
CATEGORIES:QUEENS FOR THE KING
END:VEVENT
BEGIN:VEVENT
DTSTART;TZID=Asia/Karachi:20240612T190000
DTEND;TZID=Asia/Karachi:20240612T200000
DTSTAMP:20260420T070546
CREATED:20240319T215455Z
LAST-MODIFIED:20240319T215455Z
UID:2460-1718218800-1718222400@www.lighthouseglobalekklesia.com
SUMMARY:ANCHOR
DESCRIPTION:
URL:https://www.lighthouseglobalekklesia.com/event/anchor-17/
CATEGORIES:ANCHOR
END:VEVENT
BEGIN:VEVENT
DTSTART;TZID=Asia/Karachi:20240610T190000
DTEND;TZID=Asia/Karachi:20240610T200000
DTSTAMP:20260420T070546
CREATED:20240319T214257Z
LAST-MODIFIED:20240319T214257Z
UID:2426-1718046000-1718049600@www.lighthouseglobalekklesia.com
SUMMARY:PRAYER NIGHT
DESCRIPTION:
URL:https://www.lighthouseglobalekklesia.com/event/prayer-night-15/
CATEGORIES:POWER OF PRAYER
END:VEVENT
BEGIN:VEVENT
DTSTART;TZID=Asia/Karachi:20240606T190000
DTEND;TZID=Asia/Karachi:20240606T200000
DTSTAMP:20260420T070546
CREATED:20240319T220600Z
LAST-MODIFIED:20240319T220600Z
UID:2492-1717700400-1717704000@www.lighthouseglobalekklesia.com
SUMMARY:QUEENS FOR THE KING
DESCRIPTION:
URL:https://www.lighthouseglobalekklesia.com/event/queens-for-the-king-18/
CATEGORIES:QUEENS FOR THE KING
END:VEVENT
BEGIN:VEVENT
DTSTART;TZID=Asia/Karachi:20240605T190000
DTEND;TZID=Asia/Karachi:20240605T200000
DTSTAMP:20260420T070546
CREATED:20240319T215404Z
LAST-MODIFIED:20240319T215404Z
UID:2458-1717614000-1717617600@www.lighthouseglobalekklesia.com
SUMMARY:ANCHOR
DESCRIPTION:
URL:https://www.lighthouseglobalekklesia.com/event/anchor-16/
CATEGORIES:ANCHOR
END:VEVENT
BEGIN:VEVENT
DTSTART;TZID=Asia/Karachi:20240603T190000
DTEND;TZID=Asia/Karachi:20240603T200000
DTSTAMP:20260420T070546
CREATED:20240319T214224Z
LAST-MODIFIED:20240319T214224Z
UID:2424-1717441200-1717444800@www.lighthouseglobalekklesia.com
SUMMARY:PRAYER NIGHT
DESCRIPTION:
URL:https://www.lighthouseglobalekklesia.com/event/prayer-night-14/
CATEGORIES:POWER OF PRAYER
END:VEVENT
BEGIN:VEVENT
DTSTART;TZID=Asia/Karachi:20240530T190000
DTEND;TZID=Asia/Karachi:20240530T200000
DTSTAMP:20260420T070546
CREATED:20240319T220531Z
LAST-MODIFIED:20240319T220531Z
UID:2490-1717095600-1717099200@www.lighthouseglobalekklesia.com
SUMMARY:QUEENS FOR THE KING
DESCRIPTION:
URL:https://www.lighthouseglobalekklesia.com/event/queens-for-the-king-17/
CATEGORIES:QUEENS FOR THE KING
END:VEVENT
BEGIN:VEVENT
DTSTART;TZID=Asia/Karachi:20240529T190000
DTEND;TZID=Asia/Karachi:20240529T200000
DTSTAMP:20260420T070546
CREATED:20240319T215321Z
LAST-MODIFIED:20240319T215321Z
UID:2456-1717009200-1717012800@www.lighthouseglobalekklesia.com
SUMMARY:ANCHOR
DESCRIPTION:
URL:https://www.lighthouseglobalekklesia.com/event/anchor-15/
CATEGORIES:ANCHOR
END:VEVENT
BEGIN:VEVENT
DTSTART;TZID=Asia/Karachi:20240527T190000
DTEND;TZID=Asia/Karachi:20240527T200000
DTSTAMP:20260420T070546
CREATED:20240319T214104Z
LAST-MODIFIED:20240319T214104Z
UID:2422-1716836400-1716840000@www.lighthouseglobalekklesia.com
SUMMARY:PRAYER NIGHT
DESCRIPTION:
URL:https://www.lighthouseglobalekklesia.com/event/prayer-night-13/
CATEGORIES:POWER OF PRAYER
END:VEVENT
BEGIN:VEVENT
DTSTART;TZID=Asia/Karachi:20240523T190000
DTEND;TZID=Asia/Karachi:20240523T200000
DTSTAMP:20260420T070546
CREATED:20240319T220504Z
LAST-MODIFIED:20240319T220504Z
UID:2488-1716490800-1716494400@www.lighthouseglobalekklesia.com
SUMMARY:QUEENS FOR THE KING
DESCRIPTION:
URL:https://www.lighthouseglobalekklesia.com/event/queens-for-the-king-16/
CATEGORIES:QUEENS FOR THE KING
END:VEVENT
BEGIN:VEVENT
DTSTART;TZID=Asia/Karachi:20240522T190000
DTEND;TZID=Asia/Karachi:20240522T200000
DTSTAMP:20260420T070546
CREATED:20240319T215241Z
LAST-MODIFIED:20240319T215241Z
UID:2454-1716404400-1716408000@www.lighthouseglobalekklesia.com
SUMMARY:ANCHOR
DESCRIPTION:
URL:https://www.lighthouseglobalekklesia.com/event/anchor-14/
CATEGORIES:ANCHOR
END:VEVENT
BEGIN:VEVENT
DTSTART;TZID=Asia/Karachi:20240520T190000
DTEND;TZID=Asia/Karachi:20240520T200000
DTSTAMP:20260420T070547
CREATED:20240319T214031Z
LAST-MODIFIED:20240319T214031Z
UID:2420-1716231600-1716235200@www.lighthouseglobalekklesia.com
SUMMARY:PRAYER NIGHT
DESCRIPTION:
URL:https://www.lighthouseglobalekklesia.com/event/prayer-night-12/
CATEGORIES:POWER OF PRAYER
END:VEVENT
BEGIN:VEVENT
DTSTART;TZID=Asia/Karachi:20240516T190000
DTEND;TZID=Asia/Karachi:20240516T200000
DTSTAMP:20260420T070547
CREATED:20240319T220434Z
LAST-MODIFIED:20240319T220434Z
UID:2486-1715886000-1715889600@www.lighthouseglobalekklesia.com
SUMMARY:QUEENS FOR THE KING
DESCRIPTION:
URL:https://www.lighthouseglobalekklesia.com/event/queens-for-the-king-15/
CATEGORIES:QUEENS FOR THE KING
END:VEVENT
BEGIN:VEVENT
DTSTART;TZID=Asia/Karachi:20240515T190000
DTEND;TZID=Asia/Karachi:20240515T200000
DTSTAMP:20260420T070547
CREATED:20240319T215215Z
LAST-MODIFIED:20240319T215215Z
UID:2452-1715799600-1715803200@www.lighthouseglobalekklesia.com
SUMMARY:ANCHOR
DESCRIPTION:
URL:https://www.lighthouseglobalekklesia.com/event/anchor-13/
CATEGORIES:ANCHOR
END:VEVENT
BEGIN:VEVENT
DTSTART;TZID=Asia/Karachi:20240513T190000
DTEND;TZID=Asia/Karachi:20240513T200000
DTSTAMP:20260420T070547
CREATED:20240319T213954Z
LAST-MODIFIED:20240319T213954Z
UID:2418-1715626800-1715630400@www.lighthouseglobalekklesia.com
SUMMARY:PRAYER NIGHT
DESCRIPTION:
URL:https://www.lighthouseglobalekklesia.com/event/prayer-night-11/
CATEGORIES:POWER OF PRAYER
END:VEVENT
BEGIN:VEVENT
DTSTART;TZID=Asia/Karachi:20240509T190000
DTEND;TZID=Asia/Karachi:20240509T200000
DTSTAMP:20260420T070547
CREATED:20240319T220356Z
LAST-MODIFIED:20240319T220356Z
UID:2484-1715281200-1715284800@www.lighthouseglobalekklesia.com
SUMMARY:QUEENS FOR THE KING
DESCRIPTION:
URL:https://www.lighthouseglobalekklesia.com/event/queens-for-the-king-14/
CATEGORIES:QUEENS FOR THE KING
END:VEVENT
BEGIN:VEVENT
DTSTART;TZID=Asia/Karachi:20240508T190000
DTEND;TZID=Asia/Karachi:20240508T200000
DTSTAMP:20260420T070547
CREATED:20240319T215146Z
LAST-MODIFIED:20240319T215146Z
UID:2450-1715194800-1715198400@www.lighthouseglobalekklesia.com
SUMMARY:ANCHOR
DESCRIPTION:
URL:https://www.lighthouseglobalekklesia.com/event/anchor-12/
CATEGORIES:ANCHOR
END:VEVENT
BEGIN:VEVENT
DTSTART;TZID=Asia/Karachi:20240506T190000
DTEND;TZID=Asia/Karachi:20240506T200000
DTSTAMP:20260420T070547
CREATED:20240319T213920Z
LAST-MODIFIED:20240319T213920Z
UID:2416-1715022000-1715025600@www.lighthouseglobalekklesia.com
SUMMARY:PRAYER NIGHT
DESCRIPTION:
URL:https://www.lighthouseglobalekklesia.com/event/prayer-night-10/
CATEGORIES:POWER OF PRAYER
END:VEVENT
BEGIN:VEVENT
DTSTART;TZID=UTC:20240502T190000
DTEND;TZID=UTC:20240502T200000
DTSTAMP:20260420T070547
CREATED:20240319T220259Z
LAST-MODIFIED:20240319T220259Z
UID:2482-1714676400-1714680000@www.lighthouseglobalekklesia.com
SUMMARY:QUEENS FOR THE KING
DESCRIPTION:
URL:https://www.lighthouseglobalekklesia.com/event/queens-for-the-king-13/
CATEGORIES:QUEENS FOR THE KING
END:VEVENT
BEGIN:VEVENT
DTSTART;TZID=Asia/Karachi:20240501T190000
DTEND;TZID=Asia/Karachi:20240501T200000
DTSTAMP:20260420T070547
CREATED:20240319T215038Z
LAST-MODIFIED:20240319T215038Z
UID:2448-1714590000-1714593600@www.lighthouseglobalekklesia.com
SUMMARY:ANCHOR
DESCRIPTION:
URL:https://www.lighthouseglobalekklesia.com/event/anchor-11/
CATEGORIES:ANCHOR
END:VEVENT
BEGIN:VEVENT
DTSTART;TZID=Asia/Karachi:20240429T190000
DTEND;TZID=Asia/Karachi:20240429T200000
DTSTAMP:20260420T070547
CREATED:20240319T213806Z
LAST-MODIFIED:20240319T213806Z
UID:2414-1714417200-1714420800@www.lighthouseglobalekklesia.com
SUMMARY:PRAYER NIGHT
DESCRIPTION:
URL:https://www.lighthouseglobalekklesia.com/event/prayer-night-9/
CATEGORIES:POWER OF PRAYER
END:VEVENT
BEGIN:VEVENT
DTSTART;TZID=Asia/Karachi:20240425T190000
DTEND;TZID=Asia/Karachi:20240425T200000
DTSTAMP:20260420T070547
CREATED:20240319T220237Z
LAST-MODIFIED:20240319T220237Z
UID:2480-1714071600-1714075200@www.lighthouseglobalekklesia.com
SUMMARY:QUEENS FOR THE KING
DESCRIPTION:
URL:https://www.lighthouseglobalekklesia.com/event/queens-for-the-king-12/
CATEGORIES:QUEENS FOR THE KING
END:VEVENT
BEGIN:VEVENT
DTSTART;TZID=Asia/Karachi:20240424T190000
DTEND;TZID=Asia/Karachi:20240424T200000
DTSTAMP:20260420T070547
CREATED:20240319T214858Z
LAST-MODIFIED:20240319T214858Z
UID:2444-1713985200-1713988800@www.lighthouseglobalekklesia.com
SUMMARY:ANCHOR
DESCRIPTION:
URL:https://www.lighthouseglobalekklesia.com/event/anchor-9/
CATEGORIES:ANCHOR
END:VEVENT
BEGIN:VEVENT
DTSTART;TZID=Asia/Karachi:20240422T190000
DTEND;TZID=Asia/Karachi:20240422T200000
DTSTAMP:20260420T070547
CREATED:20240319T213728Z
LAST-MODIFIED:20240319T213728Z
UID:2412-1713812400-1713816000@www.lighthouseglobalekklesia.com
SUMMARY:PRAYER NIGHT
DESCRIPTION:
URL:https://www.lighthouseglobalekklesia.com/event/prayer-night-8/
CATEGORIES:POWER OF PRAYER
END:VEVENT
BEGIN:VEVENT
DTSTART;TZID=Asia/Karachi:20240418T190000
DTEND;TZID=Asia/Karachi:20240418T200000
DTSTAMP:20260420T070547
CREATED:20240319T220205Z
LAST-MODIFIED:20240319T220205Z
UID:2478-1713466800-1713470400@www.lighthouseglobalekklesia.com
SUMMARY:QUEENS FOR THE KING
DESCRIPTION:
URL:https://www.lighthouseglobalekklesia.com/event/queens-for-the-king-11/
CATEGORIES:QUEENS FOR THE KING
END:VEVENT
BEGIN:VEVENT
DTSTART;TZID=Asia/Karachi:20240417T190000
DTEND;TZID=Asia/Karachi:20240417T200000
DTSTAMP:20260420T070547
CREATED:20240319T214935Z
LAST-MODIFIED:20240319T214935Z
UID:2446-1713380400-1713384000@www.lighthouseglobalekklesia.com
SUMMARY:ANCHOR
DESCRIPTION:
URL:https://www.lighthouseglobalekklesia.com/event/anchor-10/
CATEGORIES:ANCHOR
END:VEVENT
BEGIN:VEVENT
DTSTART;TZID=Asia/Karachi:20240415T190000
DTEND;TZID=Asia/Karachi:20240415T200000
DTSTAMP:20260420T070547
CREATED:20240319T213701Z
LAST-MODIFIED:20240319T213701Z
UID:2410-1713207600-1713211200@www.lighthouseglobalekklesia.com
SUMMARY:PRAYER NIGHT
DESCRIPTION:
URL:https://www.lighthouseglobalekklesia.com/event/prayer-night-7/
END:VEVENT
BEGIN:VEVENT
DTSTART;TZID=Asia/Karachi:20240411T190000
DTEND;TZID=Asia/Karachi:20240411T200000
DTSTAMP:20260420T070547
CREATED:20240319T220138Z
LAST-MODIFIED:20240319T220138Z
UID:2476-1712862000-1712865600@www.lighthouseglobalekklesia.com
SUMMARY:QUEENS FOR THE KING
DESCRIPTION:
URL:https://www.lighthouseglobalekklesia.com/event/queens-for-the-king-10/
CATEGORIES:QUEENS FOR THE KING
END:VEVENT
BEGIN:VEVENT
DTSTART;TZID=Asia/Karachi:20240410T190000
DTEND;TZID=Asia/Karachi:20240410T200000
DTSTAMP:20260420T070547
CREATED:20240319T214824Z
LAST-MODIFIED:20240319T214824Z
UID:2442-1712775600-1712779200@www.lighthouseglobalekklesia.com
SUMMARY:ANCHOR
DESCRIPTION:
URL:https://www.lighthouseglobalekklesia.com/event/anchor-8/
CATEGORIES:ANCHOR
END:VEVENT
BEGIN:VEVENT
DTSTART;TZID=Asia/Karachi:20240408T190000
DTEND;TZID=Asia/Karachi:20240408T200000
DTSTAMP:20260420T070547
CREATED:20240319T213624Z
LAST-MODIFIED:20240319T213624Z
UID:2408-1712602800-1712606400@www.lighthouseglobalekklesia.com
SUMMARY:PRAYER NIGHT
DESCRIPTION:
URL:https://www.lighthouseglobalekklesia.com/event/prayer-night-6/
CATEGORIES:POWER OF PRAYER
END:VEVENT
END:VCALENDAR