BEGIN:VCALENDAR
VERSION:2.0
PRODID:-//Lighthouse Global Ekklesia - ECPv6.15.20//NONSGML v1.0//EN
CALSCALE:GREGORIAN
METHOD:PUBLISH
X-WR-CALNAME:Lighthouse Global Ekklesia
X-ORIGINAL-URL:https://www.lighthouseglobalekklesia.com
X-WR-CALDESC:Events for Lighthouse Global Ekklesia
REFRESH-INTERVAL;VALUE=DURATION:PT1H
X-Robots-Tag:noindex
X-PUBLISHED-TTL:PT1H
BEGIN:VTIMEZONE
TZID:Asia/Karachi
BEGIN:STANDARD
TZOFFSETFROM:+0500
TZOFFSETTO:+0500
TZNAME:PKT
DTSTART:20230101T000000
END:STANDARD
END:VTIMEZONE
BEGIN:VTIMEZONE
TZID:UTC
BEGIN:STANDARD
TZOFFSETFROM:+0000
TZOFFSETTO:+0000
TZNAME:UTC
DTSTART:20230101T000000
END:STANDARD
END:VTIMEZONE
BEGIN:VEVENT
DTSTART;TZID=Asia/Karachi:20240425T190000
DTEND;TZID=Asia/Karachi:20240425T200000
DTSTAMP:20260424T071053
CREATED:20240319T220237Z
LAST-MODIFIED:20240319T220237Z
UID:2480-1714071600-1714075200@www.lighthouseglobalekklesia.com
SUMMARY:QUEENS FOR THE KING
DESCRIPTION:
URL:https://www.lighthouseglobalekklesia.com/event/queens-for-the-king-12/
CATEGORIES:QUEENS FOR THE KING
END:VEVENT
BEGIN:VEVENT
DTSTART;TZID=Asia/Karachi:20240418T190000
DTEND;TZID=Asia/Karachi:20240418T200000
DTSTAMP:20260424T071053
CREATED:20240319T220205Z
LAST-MODIFIED:20240319T220205Z
UID:2478-1713466800-1713470400@www.lighthouseglobalekklesia.com
SUMMARY:QUEENS FOR THE KING
DESCRIPTION:
URL:https://www.lighthouseglobalekklesia.com/event/queens-for-the-king-11/
CATEGORIES:QUEENS FOR THE KING
END:VEVENT
BEGIN:VEVENT
DTSTART;TZID=Asia/Karachi:20240411T190000
DTEND;TZID=Asia/Karachi:20240411T200000
DTSTAMP:20260424T071053
CREATED:20240319T220138Z
LAST-MODIFIED:20240319T220138Z
UID:2476-1712862000-1712865600@www.lighthouseglobalekklesia.com
SUMMARY:QUEENS FOR THE KING
DESCRIPTION:
URL:https://www.lighthouseglobalekklesia.com/event/queens-for-the-king-10/
CATEGORIES:QUEENS FOR THE KING
END:VEVENT
BEGIN:VEVENT
DTSTART;TZID=Asia/Karachi:20240404T190000
DTEND;TZID=Asia/Karachi:20240404T200000
DTSTAMP:20260424T071053
CREATED:20240319T220059Z
LAST-MODIFIED:20240319T220059Z
UID:2474-1712257200-1712260800@www.lighthouseglobalekklesia.com
SUMMARY:QUEENS FOR THE KING
DESCRIPTION:
URL:https://www.lighthouseglobalekklesia.com/event/queens-for-the-king-9/
CATEGORIES:QUEENS FOR THE KING
END:VEVENT
BEGIN:VEVENT
DTSTART;TZID=Asia/Karachi:20240328T190000
DTEND;TZID=Asia/Karachi:20240328T200000
DTSTAMP:20260424T071053
CREATED:20240319T220030Z
LAST-MODIFIED:20240319T220030Z
UID:2472-1711652400-1711656000@www.lighthouseglobalekklesia.com
SUMMARY:QUEENS FOR THE KING
DESCRIPTION:
URL:https://www.lighthouseglobalekklesia.com/event/queens-for-the-king-8/
CATEGORIES:QUEENS FOR THE KING
END:VEVENT
BEGIN:VEVENT
DTSTART;TZID=Asia/Karachi:20240321T190000
DTEND;TZID=Asia/Karachi:20240321T200000
DTSTAMP:20260424T071053
CREATED:20240319T215916Z
LAST-MODIFIED:20240319T215916Z
UID:2470-1711047600-1711051200@www.lighthouseglobalekklesia.com
SUMMARY:QUEENS FOR THE KING
DESCRIPTION:
URL:https://www.lighthouseglobalekklesia.com/event/queens-for-the-king-7/
CATEGORIES:QUEENS FOR THE KING
END:VEVENT
BEGIN:VEVENT
DTSTART;TZID=Asia/Karachi:20240314T190000
DTEND;TZID=Asia/Karachi:20240314T200000
DTSTAMP:20260424T071053
CREATED:20240319T215843Z
LAST-MODIFIED:20240319T215843Z
UID:2468-1710442800-1710446400@www.lighthouseglobalekklesia.com
SUMMARY:QUEENS FOR THE KING
DESCRIPTION:
URL:https://www.lighthouseglobalekklesia.com/event/queens-for-the-king-6/
CATEGORIES:QUEENS FOR THE KING
END:VEVENT
BEGIN:VEVENT
DTSTART;TZID=Asia/Karachi:20240307T190000
DTEND;TZID=Asia/Karachi:20240307T200000
DTSTAMP:20260424T071053
CREATED:20240319T215800Z
LAST-MODIFIED:20240319T215800Z
UID:2466-1709838000-1709841600@www.lighthouseglobalekklesia.com
SUMMARY:QUEENS FOR THE KING
DESCRIPTION:
URL:https://www.lighthouseglobalekklesia.com/event/queens-for-the-king-5/
CATEGORIES:QUEENS FOR THE KING
END:VEVENT
BEGIN:VEVENT
DTSTART;TZID=Asia/Karachi:20240228T190000
DTEND;TZID=Asia/Karachi:20240228T203000
DTSTAMP:20260424T071053
CREATED:20240225T125103Z
LAST-MODIFIED:20240225T125103Z
UID:2326-1709146800-1709152200@www.lighthouseglobalekklesia.com
SUMMARY:QUEENS  FOR THE KING
DESCRIPTION:
URL:https://www.lighthouseglobalekklesia.com/event/queens-for-the-king-4/
CATEGORIES:QUEENS FOR THE KING
END:VEVENT
BEGIN:VEVENT
DTSTART;TZID=Asia/Karachi:20240222T190000
DTEND;TZID=Asia/Karachi:20240222T203000
DTSTAMP:20260424T071053
CREATED:20240225T122031Z
LAST-MODIFIED:20240225T122031Z
UID:2318-1708628400-1708633800@www.lighthouseglobalekklesia.com
SUMMARY:QUEENS  FOR THE KING
DESCRIPTION:
URL:https://www.lighthouseglobalekklesia.com/event/queens-for-the-king-3/
CATEGORIES:QUEENS FOR THE KING
END:VEVENT
BEGIN:VEVENT
DTSTART;TZID=UTC:20240215T190000
DTEND;TZID=UTC:20240215T200000
DTSTAMP:20260424T071053
CREATED:20240225T121330Z
LAST-MODIFIED:20240225T121330Z
UID:2308-1708023600-1708027200@www.lighthouseglobalekklesia.com
SUMMARY:QUEENS  FOR THE KING
DESCRIPTION:QUEENS  FOR THE KING
URL:https://www.lighthouseglobalekklesia.com/event/queens-for-the-king-2/
CATEGORIES:QUEENS FOR THE KING
END:VEVENT
BEGIN:VEVENT
DTSTART;TZID=Asia/Karachi:20240208T190000
DTEND;TZID=Asia/Karachi:20240210T190000
DTSTAMP:20260424T071053
CREATED:20240225T105209Z
LAST-MODIFIED:20240225T134800Z
UID:2300-1707418800-1707591600@www.lighthouseglobalekklesia.com
SUMMARY:LH4 ACCELLERATE
DESCRIPTION:QUEENS FOR THE KING\n7:00 PM EST
URL:https://www.lighthouseglobalekklesia.com/event/lh4-accellerate/
CATEGORIES:QUEENS FOR THE KING
ATTACH;FMTTYPE=image/jpeg:https://www.lighthouseglobalekklesia.com/wp-content/uploads/2024/02/event-bg.jpg
END:VEVENT
BEGIN:VEVENT
DTSTART;TZID=Asia/Karachi:20240201T190000
DTEND;TZID=Asia/Karachi:20240201T190000
DTSTAMP:20260424T071053
CREATED:20240225T104229Z
LAST-MODIFIED:20240225T104717Z
UID:2288-1706814000-1706814000@www.lighthouseglobalekklesia.com
SUMMARY:QUEENS FOR THE KING
DESCRIPTION:7:00 PM EST
URL:https://www.lighthouseglobalekklesia.com/event/queens-for-the-king/
LOCATION:QUEENS  FOR THE KING\, FL\, United States
CATEGORIES:QUEENS FOR THE KING
END:VEVENT
END:VCALENDAR