BEGIN:VCALENDAR
VERSION:2.0
PRODID:-//Lighthouse Global Ekklesia - ECPv6.15.20//NONSGML v1.0//EN
CALSCALE:GREGORIAN
METHOD:PUBLISH
X-ORIGINAL-URL:https://www.lighthouseglobalekklesia.com
X-WR-CALDESC:Events for Lighthouse Global Ekklesia
REFRESH-INTERVAL;VALUE=DURATION:PT1H
X-Robots-Tag:noindex
X-PUBLISHED-TTL:PT1H
BEGIN:VTIMEZONE
TZID:Asia/Karachi
BEGIN:STANDARD
TZOFFSETFROM:+0500
TZOFFSETTO:+0500
TZNAME:PKT
DTSTART:20230101T000000
END:STANDARD
END:VTIMEZONE
BEGIN:VTIMEZONE
TZID:UTC
BEGIN:STANDARD
TZOFFSETFROM:+0000
TZOFFSETTO:+0000
TZNAME:UTC
DTSTART:20230101T000000
END:STANDARD
END:VTIMEZONE
BEGIN:VEVENT
DTSTART;TZID=Asia/Karachi:20240624T190000
DTEND;TZID=Asia/Karachi:20240624T200000
DTSTAMP:20260424T071407
CREATED:20240319T214352Z
LAST-MODIFIED:20240319T214352Z
UID:2430-1719255600-1719259200@www.lighthouseglobalekklesia.com
SUMMARY:PRAYER NIGHT
DESCRIPTION:
URL:https://www.lighthouseglobalekklesia.com/event/prayer-night-17/
CATEGORIES:POWER OF PRAYER
END:VEVENT
BEGIN:VEVENT
DTSTART;TZID=Asia/Karachi:20240617T190000
DTEND;TZID=Asia/Karachi:20240617T200000
DTSTAMP:20260424T071407
CREATED:20240319T214328Z
LAST-MODIFIED:20240319T214328Z
UID:2428-1718650800-1718654400@www.lighthouseglobalekklesia.com
SUMMARY:PRAYER NIGHT
DESCRIPTION:
URL:https://www.lighthouseglobalekklesia.com/event/prayer-night-16/
CATEGORIES:POWER OF PRAYER
END:VEVENT
BEGIN:VEVENT
DTSTART;TZID=Asia/Karachi:20240610T190000
DTEND;TZID=Asia/Karachi:20240610T200000
DTSTAMP:20260424T071407
CREATED:20240319T214257Z
LAST-MODIFIED:20240319T214257Z
UID:2426-1718046000-1718049600@www.lighthouseglobalekklesia.com
SUMMARY:PRAYER NIGHT
DESCRIPTION:
URL:https://www.lighthouseglobalekklesia.com/event/prayer-night-15/
CATEGORIES:POWER OF PRAYER
END:VEVENT
BEGIN:VEVENT
DTSTART;TZID=Asia/Karachi:20240603T190000
DTEND;TZID=Asia/Karachi:20240603T200000
DTSTAMP:20260424T071407
CREATED:20240319T214224Z
LAST-MODIFIED:20240319T214224Z
UID:2424-1717441200-1717444800@www.lighthouseglobalekklesia.com
SUMMARY:PRAYER NIGHT
DESCRIPTION:
URL:https://www.lighthouseglobalekklesia.com/event/prayer-night-14/
CATEGORIES:POWER OF PRAYER
END:VEVENT
BEGIN:VEVENT
DTSTART;TZID=Asia/Karachi:20240527T190000
DTEND;TZID=Asia/Karachi:20240527T200000
DTSTAMP:20260424T071407
CREATED:20240319T214104Z
LAST-MODIFIED:20240319T214104Z
UID:2422-1716836400-1716840000@www.lighthouseglobalekklesia.com
SUMMARY:PRAYER NIGHT
DESCRIPTION:
URL:https://www.lighthouseglobalekklesia.com/event/prayer-night-13/
CATEGORIES:POWER OF PRAYER
END:VEVENT
BEGIN:VEVENT
DTSTART;TZID=Asia/Karachi:20240520T190000
DTEND;TZID=Asia/Karachi:20240520T200000
DTSTAMP:20260424T071407
CREATED:20240319T214031Z
LAST-MODIFIED:20240319T214031Z
UID:2420-1716231600-1716235200@www.lighthouseglobalekklesia.com
SUMMARY:PRAYER NIGHT
DESCRIPTION:
URL:https://www.lighthouseglobalekklesia.com/event/prayer-night-12/
CATEGORIES:POWER OF PRAYER
END:VEVENT
BEGIN:VEVENT
DTSTART;TZID=Asia/Karachi:20240513T190000
DTEND;TZID=Asia/Karachi:20240513T200000
DTSTAMP:20260424T071407
CREATED:20240319T213954Z
LAST-MODIFIED:20240319T213954Z
UID:2418-1715626800-1715630400@www.lighthouseglobalekklesia.com
SUMMARY:PRAYER NIGHT
DESCRIPTION:
URL:https://www.lighthouseglobalekklesia.com/event/prayer-night-11/
CATEGORIES:POWER OF PRAYER
END:VEVENT
BEGIN:VEVENT
DTSTART;TZID=Asia/Karachi:20240506T190000
DTEND;TZID=Asia/Karachi:20240506T200000
DTSTAMP:20260424T071407
CREATED:20240319T213920Z
LAST-MODIFIED:20240319T213920Z
UID:2416-1715022000-1715025600@www.lighthouseglobalekklesia.com
SUMMARY:PRAYER NIGHT
DESCRIPTION:
URL:https://www.lighthouseglobalekklesia.com/event/prayer-night-10/
CATEGORIES:POWER OF PRAYER
END:VEVENT
BEGIN:VEVENT
DTSTART;TZID=Asia/Karachi:20240429T190000
DTEND;TZID=Asia/Karachi:20240429T200000
DTSTAMP:20260424T071407
CREATED:20240319T213806Z
LAST-MODIFIED:20240319T213806Z
UID:2414-1714417200-1714420800@www.lighthouseglobalekklesia.com
SUMMARY:PRAYER NIGHT
DESCRIPTION:
URL:https://www.lighthouseglobalekklesia.com/event/prayer-night-9/
CATEGORIES:POWER OF PRAYER
END:VEVENT
BEGIN:VEVENT
DTSTART;TZID=Asia/Karachi:20240422T190000
DTEND;TZID=Asia/Karachi:20240422T200000
DTSTAMP:20260424T071407
CREATED:20240319T213728Z
LAST-MODIFIED:20240319T213728Z
UID:2412-1713812400-1713816000@www.lighthouseglobalekklesia.com
SUMMARY:PRAYER NIGHT
DESCRIPTION:
URL:https://www.lighthouseglobalekklesia.com/event/prayer-night-8/
CATEGORIES:POWER OF PRAYER
END:VEVENT
BEGIN:VEVENT
DTSTART;TZID=Asia/Karachi:20240408T190000
DTEND;TZID=Asia/Karachi:20240408T200000
DTSTAMP:20260424T071407
CREATED:20240319T213624Z
LAST-MODIFIED:20240319T213624Z
UID:2408-1712602800-1712606400@www.lighthouseglobalekklesia.com
SUMMARY:PRAYER NIGHT
DESCRIPTION:
URL:https://www.lighthouseglobalekklesia.com/event/prayer-night-6/
CATEGORIES:POWER OF PRAYER
END:VEVENT
BEGIN:VEVENT
DTSTART;TZID=Asia/Karachi:20240325T190000
DTEND;TZID=Asia/Karachi:20240325T200000
DTSTAMP:20260424T071407
CREATED:20240319T213502Z
LAST-MODIFIED:20240319T213502Z
UID:2404-1711393200-1711396800@www.lighthouseglobalekklesia.com
SUMMARY:PRAYER NIGHT
DESCRIPTION:
URL:https://www.lighthouseglobalekklesia.com/event/prayer-night-4/
CATEGORIES:POWER OF PRAYER
END:VEVENT
BEGIN:VEVENT
DTSTART;TZID=Asia/Karachi:20240318T190000
DTEND;TZID=Asia/Karachi:20240318T200000
DTSTAMP:20260424T071407
CREATED:20240319T213422Z
LAST-MODIFIED:20240319T213422Z
UID:2402-1710788400-1710792000@www.lighthouseglobalekklesia.com
SUMMARY:PRAYER NIGHT
DESCRIPTION:
URL:https://www.lighthouseglobalekklesia.com/event/prayer-night-3/
CATEGORIES:POWER OF PRAYER
END:VEVENT
BEGIN:VEVENT
DTSTART;TZID=Asia/Karachi:20240311T190000
DTEND;TZID=Asia/Karachi:20240311T200000
DTSTAMP:20260424T071407
CREATED:20240319T213336Z
LAST-MODIFIED:20240319T213336Z
UID:2400-1710183600-1710187200@www.lighthouseglobalekklesia.com
SUMMARY:PRAYER NIGHT
DESCRIPTION:
URL:https://www.lighthouseglobalekklesia.com/event/prayer-night-2/
CATEGORIES:POWER OF PRAYER
END:VEVENT
BEGIN:VEVENT
DTSTART;TZID=Asia/Karachi:20240304T190000
DTEND;TZID=Asia/Karachi:20240304T200000
DTSTAMP:20260424T071407
CREATED:20240319T213030Z
LAST-MODIFIED:20240319T213047Z
UID:2397-1709578800-1709582400@www.lighthouseglobalekklesia.com
SUMMARY:PRAYER NIGHT
DESCRIPTION:
URL:https://www.lighthouseglobalekklesia.com/event/prayer-night/
CATEGORIES:POWER OF PRAYER
END:VEVENT
BEGIN:VEVENT
DTSTART;TZID=Asia/Karachi:20240226T190000
DTEND;TZID=Asia/Karachi:20240226T203000
DTSTAMP:20260424T071407
CREATED:20240225T122505Z
LAST-MODIFIED:20240225T124930Z
UID:2322-1708974000-1708979400@www.lighthouseglobalekklesia.com
SUMMARY:POWER OF PRAYER
DESCRIPTION:ZOOM 7:00 PM EST
URL:https://www.lighthouseglobalekklesia.com/event/power-of-prayer-4/
CATEGORIES:POWER OF PRAYER
END:VEVENT
BEGIN:VEVENT
DTSTART;TZID=Asia/Karachi:20240219T190000
DTEND;TZID=Asia/Karachi:20240219T203000
DTSTAMP:20260424T071407
CREATED:20240225T121429Z
LAST-MODIFIED:20240225T121429Z
UID:2310-1708369200-1708374600@www.lighthouseglobalekklesia.com
SUMMARY:POWER OF PRAYER
DESCRIPTION:ZOOM 7:00 PM EST
URL:https://www.lighthouseglobalekklesia.com/event/power-of-prayer-3/
CATEGORIES:POWER OF PRAYER
END:VEVENT
BEGIN:VEVENT
DTSTART;TZID=UTC:20240212T190000
DTEND;TZID=UTC:20240212T200000
DTSTAMP:20260424T071407
CREATED:20240225T121135Z
LAST-MODIFIED:20240225T121135Z
UID:2304-1707764400-1707768000@www.lighthouseglobalekklesia.com
SUMMARY:POWER OF PRAYER
DESCRIPTION:ZOOM 7:00 PM EST
URL:https://www.lighthouseglobalekklesia.com/event/power-of-prayer-2/
CATEGORIES:POWER OF PRAYER
END:VEVENT
BEGIN:VEVENT
DTSTART;TZID=Asia/Karachi:20240205T190000
DTEND;TZID=Asia/Karachi:20240205T190000
DTSTAMP:20260424T071407
CREATED:20240225T104533Z
LAST-MODIFIED:20240225T104707Z
UID:2292-1707159600-1707159600@www.lighthouseglobalekklesia.com
SUMMARY:POWER OF PRAYER
DESCRIPTION:ZOOM 7:00 PM EST
URL:https://www.lighthouseglobalekklesia.com/event/power-of-prayer/
CATEGORIES:POWER OF PRAYER
END:VEVENT
END:VCALENDAR